BEGIN:VCALENDAR
VERSION:2.0
PRODID:-//OmniMagnetCalendar//EN
BEGIN:VEVENT
DTSTAMP:20190625T195740Z
STATUS:CONFIRMED
UID:hccincinnati.clubs.harvard.edu492
DTSTART:20211024T203000Z
DTEND:20211024T213000Z
LOCATION:
SUMMARY:HCC Interviewer Training--Sunday October 24, 4:30 – 5:30 pm ET Zoom
DESCRIPTION:If you are unsure about interviewing and want to learn more, we hope you will join us for our local HCC Interviewer training (held remotely via zoom). You’ll have the chance to meet the team and learn more!
BEGIN:VALARM
TRIGGER:-PT15M
ACTION:DISPLAY
END:VALARM
TRANSP:OPAQUE
END:VEVENT
END:VCALENDAR
