BEGIN:VCALENDAR
VERSION:2.0
PRODID:-//OmniMagnetCalendar//EN
BEGIN:VEVENT
DTSTAMP:20190625T195740Z
STATUS:CONFIRMED
UID:hccincinnati.clubs.harvard.edu489
DTSTART:20211104T220000Z
DTEND:20211105T010000Z
LOCATION:The Cleveland Skating Club, 2500 Kemper Rd, Shaker Heights, OH, 44120,
SUMMARY:HC Northeast Ohio invites you to their fall dinner...return to in person
DESCRIPTION:Feel like a trip to Cleveland?   With former Shaker Heights Mayor Earl Leiken ’64, LLB ’67 (accompanied by Joyce Braverman and Jon Ratner): “The Van Aken District: The Story of a Regional Development Success” . RSVP deadline October 27. 
BEGIN:VALARM
TRIGGER:-PT15M
ACTION:DISPLAY
END:VALARM
TRANSP:OPAQUE
END:VEVENT
END:VCALENDAR
