BEGIN:VCALENDAR
VERSION:2.0
PRODID:-//OmniMagnetCalendar//EN
BEGIN:VEVENT
DTSTAMP:20190625T195740Z
STATUS:CONFIRMED
UID:hccincinnati.clubs.harvard.edu488
DTSTART:20211021T220000Z
DTEND:20211022T003000Z
LOCATION:Camargo Club, 8605 Shawnee Run Rd, Cincinnati, 45243,
SUMMARY:Cincy Yale Club invites you to their annual meeting
DESCRIPTION:Remarks by Jim Anderson '63, President and CEO of Cincinnati Children's Hospital,1996-2009, and Advisor to the President of Cincinnati Children's "Leadership in Complex Organizations". 
BEGIN:VALARM
TRIGGER:-PT15M
ACTION:DISPLAY
END:VALARM
TRANSP:OPAQUE
END:VEVENT
END:VCALENDAR
