BEGIN:VCALENDAR
VERSION:2.0
PRODID:-//OmniMagnetCalendar//EN
BEGIN:VEVENT
DTSTAMP:20190625T195740Z
STATUS:CONFIRMED
UID:hccincinnati.clubs.harvard.edu486
DTSTART:20211204T140000Z
DTEND:20211204T160000Z
LOCATION:Mayerson Distribution Center-FSFB, 1250 Tennesee Ave, Cincinnati, OH, 45229,
SUMMARY:Community Service: Freestore Foodbank
DESCRIPTION:We are returning to our annual holiday-time service project with FSFB.  Help fight food insecurity!  Please read this year's guidelines carefully before registering. Masks will be required. Age limit: 8 years old.
BEGIN:VALARM
TRIGGER:-PT15M
ACTION:DISPLAY
END:VALARM
TRANSP:OPAQUE
END:VEVENT
END:VCALENDAR
