BEGIN:VCALENDAR
VERSION:2.0
PRODID:-//OmniMagnetCalendar//EN
BEGIN:VEVENT
DTSTAMP:20190625T195740Z
STATUS:CONFIRMED
UID:hccincinnati.clubs.harvard.edu485
DTSTART:20211026T230000Z
DTEND:20211027T010000Z
LOCATION:
SUMMARY:Welcome to Your State--virtual
DESCRIPTION:Hey Recent Grads (last 10 years, undergrad and graduate schools)!  Connect with your fellow Harvardians at the HC NE Ohio and HC Central Ohio. Get the link from the event page.
BEGIN:VALARM
TRIGGER:-PT15M
ACTION:DISPLAY
END:VALARM
TRANSP:OPAQUE
END:VEVENT
END:VCALENDAR
