BEGIN:VCALENDAR
VERSION:2.0
PRODID:-//OmniMagnetCalendar//EN
BEGIN:VEVENT
DTSTAMP:20190625T195740Z
STATUS:CONFIRMED
UID:hccincinnati.clubs.harvard.edu484
DTSTART:20211208T000000Z
DTEND:20211208T011500Z
LOCATION:
SUMMARY:POSTPONED until January!  Fall Virtual Speakers Event with Professor Elena Savoia
DESCRIPTION:Elena Savoia has had to cancel December 7 due to illness. Please watch this space!  We will try to reschedule for January.
BEGIN:VALARM
TRIGGER:-PT15M
ACTION:DISPLAY
END:VALARM
TRANSP:OPAQUE
END:VEVENT
END:VCALENDAR
