BEGIN:VCALENDAR
VERSION:2.0
PRODID:-//OmniMagnetCalendar//EN
BEGIN:VEVENT
DTSTAMP:20190625T195740Z
STATUS:CONFIRMED
UID:hccincinnati.clubs.harvard.edu481
DTSTART:20210923T123003Z
DTEND:20210924T190000Z
LOCATION:
SUMMARY:GSD Design Impact Virtual Summit
DESCRIPTION:The GSD Design Impact summit brings together over 40 global leaders across 12 sessions to share their work and vision at the intersection of health, climate change and equity. This inspiring, two-day virtual event transcends regional and national boundari
BEGIN:VALARM
TRIGGER:-PT15M
ACTION:DISPLAY
END:VALARM
TRANSP:OPAQUE
END:VEVENT
END:VCALENDAR
