BEGIN:VCALENDAR
VERSION:2.0
PRODID:-//OmniMagnetCalendar//EN
BEGIN:VEVENT
DTSTAMP:20190625T195740Z
STATUS:CONFIRMED
UID:hccincinnati.clubs.harvard.edu480
DTSTART:20210927T213000Z
DTEND:20210927T233000Z
LOCATION:Northern Row Distillery and Brewery, 111 W. McMicken Ave, Cincinnati, OH, 45208,
SUMMARY:President's Reception
DESCRIPTION:Kick off the program year with us at Northern Row Brewery and Distillery in OTR!  Open only for the Harvard Club on Monday, September 27.  Join us!  All Harvard alumni and affiliates in greater Cincy are invited!
BEGIN:VALARM
TRIGGER:-PT15M
ACTION:DISPLAY
END:VALARM
TRANSP:OPAQUE
END:VEVENT
END:VCALENDAR
