BEGIN:VCALENDAR
VERSION:2.0
PRODID:-//OmniMagnetCalendar//EN
BEGIN:VEVENT
DTSTAMP:20190625T195740Z
STATUS:CONFIRMED
UID:hccincinnati.clubs.harvard.edu476
DTSTART:20211120T170000Z
DTEND:20211120T213000Z
LOCATION:Fretboard Brewing, 5800 Creek Rd, Cincinnati, OH, 45242,
SUMMARY:Harvard v. Yale 2021--Watch Party returns!
DESCRIPTION:The Game is on!  November 20 will see the Crimson face off against the Bulldogs at the Yale Bowl.  Watch party @ Fretboard Brewing, 5800 Creek Rd. in Blue Ash. No cover. Entire Harvard community invited! Noon kickoff.
BEGIN:VALARM
TRIGGER:-PT15M
ACTION:DISPLAY
END:VALARM
TRANSP:OPAQUE
END:VEVENT
END:VCALENDAR
