BEGIN:VCALENDAR
VERSION:2.0
PRODID:-//OmniMagnetCalendar//EN
BEGIN:VEVENT
DTSTAMP:20190625T195740Z
STATUS:CONFIRMED
UID:hccincinnati.clubs.harvard.edu474
DTSTART:20210922T213000Z
DTEND:20210922T230000Z
LOCATION:Findlay Kitchen, 1719 Elm St., Cincinnati, OH, 45202,
SUMMARY:POSTPONED: Yale Quarterly Women's Event with entrepreneur Jen Morales '99
DESCRIPTION:This event has been postponed until spring 2022. Registrants will be contacted and fees refunded.
BEGIN:VALARM
TRIGGER:-PT15M
ACTION:DISPLAY
END:VALARM
TRANSP:OPAQUE
END:VEVENT
END:VCALENDAR
