BEGIN:VCALENDAR
VERSION:2.0
PRODID:-//OmniMagnetCalendar//EN
BEGIN:VEVENT
DTSTAMP:20190625T195740Z
STATUS:CONFIRMED
UID:hccincinnati.clubs.harvard.edu473
DTSTART:20211008T154500Z
DTEND:20211008T173000Z
LOCATION:Taft Center , 425 Walnut Street, Cincinnati, OH, 45202,
SUMMARY:The Future of our City: Meet the Mayoral Candidates
DESCRIPTION:October 8, join us for a moderated discussion with candidates David Mann '61, HLS'68  and Aftab Pureval at the Taft Center downtown.  Attend in person or virtually. All-Ivy event. RSVP required. 9 in-person seats left as of 10/4.
BEGIN:VALARM
TRIGGER:-PT15M
ACTION:DISPLAY
END:VALARM
TRANSP:OPAQUE
END:VEVENT
END:VCALENDAR
