BEGIN:VCALENDAR
VERSION:2.0
PRODID:-//OmniMagnetCalendar//EN
BEGIN:VEVENT
DTSTAMP:20190625T195740Z
STATUS:CONFIRMED
UID:hccincinnati.clubs.harvard.edu472
DTSTART:20210923T230000Z
DTEND:20210925T210000Z
LOCATION:
SUMMARY:Unity Weekend: Celebrating Harvard Alumni of Color
DESCRIPTION:September 23-25 Unity Weekend virtual conference presented by HAA. With storytelling, panels on education, business development (including our own Ty Moore) and much more. Click through to register!
BEGIN:VALARM
TRIGGER:-PT15M
ACTION:DISPLAY
END:VALARM
TRANSP:OPAQUE
END:VEVENT
END:VCALENDAR
