BEGIN:VCALENDAR
VERSION:2.0
PRODID:-//OmniMagnetCalendar//EN
BEGIN:VEVENT
DTSTAMP:20190625T195740Z
STATUS:CONFIRMED
UID:hccincinnati.clubs.harvard.edu359
DTSTART:20200126T200000Z
DTEND:20200126T220000Z
LOCATION:Indian Hill Winter Club, 10005 Fletcher Rd., Camp Dennison, OH, 45111,
SUMMARY:2020 Winter Frolic!
DESCRIPTION:Join us at the Indian Hill Winter Club for winter fun! Ice skating, crackling fires, games in the gym and more... 
BEGIN:VALARM
TRIGGER:-PT15M
ACTION:DISPLAY
END:VALARM
TRANSP:OPAQUE
END:VEVENT
END:VCALENDAR
