BEGIN:VCALENDAR
VERSION:2.0
PRODID:-//OmniMagnetCalendar//EN
BEGIN:VEVENT
DTSTAMP:20190625T195740Z
STATUS:CONFIRMED
UID:hccincinnati.clubs.harvard.edu326
DTSTART:20211021T200000Z
DTEND:20211021T211500Z
LOCATION:University of Cincinnati--DAAP 4400,
SUMMARY:Harvard Around Town: Janet Echelman '87 on October 21
DESCRIPTION:Janet Echelman, Guggenheim Fellowship recipient, is a sculptor and fiber artist, named an Architectural Digest Innovator for "changing the very essence of urban spaces". She is the keynote speaker for the Interdisciplinary Sculpture Conference at DAAP. LI
BEGIN:VALARM
TRIGGER:-PT15M
ACTION:DISPLAY
END:VALARM
TRANSP:OPAQUE
END:VEVENT
END:VCALENDAR
