BEGIN:VCALENDAR
VERSION:2.0
PRODID:-//OmniMagnetCalendar//EN
BEGIN:VEVENT
DTSTAMP:20190625T195740Z
STATUS:CONFIRMED
UID:hccincinnati.clubs.harvard.edu308
DTSTART:20220316T213000Z
DTEND:20220317T000000Z
LOCATION:Fifty West Brewing Company,  7605 Wooster Pike, Cincinnati, OH, 45227,
SUMMARY:Global Networking Night--March 16
DESCRIPTION:Free alumni event co-sponsored with HAA. NEW VENUE: Fifty West Brewing Company, 7605 Wooster Pike, Cincinnati, OH, 45227. REGISTRATION OPEN NOW! Click through for the link.
BEGIN:VALARM
TRIGGER:-PT15M
ACTION:DISPLAY
END:VALARM
TRANSP:OPAQUE
END:VEVENT
END:VCALENDAR
