BEGIN:VCALENDAR
VERSION:2.0
PRODID:-//OmniMagnetCalendar//EN
BEGIN:VEVENT
DTSTAMP:20190625T195740Z
STATUS:CONFIRMED
UID:hccincinnati.clubs.harvard.edu246
DTSTART:20211221T220000Z
DTEND:20211222T013000Z
LOCATION:The University Club, 401 E. Fourth St., Cincinnati, OH, 45202,
SUMMARY:The Holiday Reception Returns!
DESCRIPTION:We are excited to return to our annual holiday gathering to celebrate the Season with food, drink and conviviality!  All members of the Harvard community are invited! Free to HCC members & current students. Other alums & guests $10.
BEGIN:VALARM
TRIGGER:-PT15M
ACTION:DISPLAY
END:VALARM
TRANSP:OPAQUE
END:VEVENT
END:VCALENDAR
