BEGIN:VCALENDAR
VERSION:2.0
PRODID:-//OmniMagnetCalendar//EN
BEGIN:VEVENT
DTSTAMP:20190625T195740Z
STATUS:CONFIRMED
UID:hccincinnati.clubs.harvard.edu243
DTSTART:20171118T170000Z
DTEND:20171118T210000Z
LOCATION:Lachey's, 56 E, 12th St., Cincinnati, OH, 45202,
SUMMARY:Harvard vs. Yale at Lachey's Today
DESCRIPTION:Free, kick-off at 12:30 pm. NEW: Charity auction to benefit Ben Abercrombie, '21, injured in his Crimson football debut and Debut of the Wishbone Traveling Trophy.
BEGIN:VALARM
TRIGGER:-PT15M
ACTION:DISPLAY
END:VALARM
TRANSP:OPAQUE
END:VEVENT
END:VCALENDAR
