BEGIN:VCALENDAR
VERSION:2.0
PRODID:-//OmniMagnetCalendar//EN
BEGIN:VEVENT
DTSTAMP:20190625T195740Z
STATUS:CONFIRMED
UID:hccincinnati.clubs.harvard.edu239
DTSTART:20170918T213000Z
DTEND:20170918T233000Z
LOCATION:Cincinnati Shakespeare Company, 1195 Elm Street, Cincinnati, Ohio, 45202, United States,
SUMMARY:2017-18 Opening Reception--September 18
DESCRIPTION:Come kick-off a new program year with your Harvard fellows at The Cincinnati Shakespeare Company's new theater!
BEGIN:VALARM
TRIGGER:-PT15M
ACTION:DISPLAY
END:VALARM
TRANSP:OPAQUE
END:VEVENT
END:VCALENDAR
