BEGIN:VCALENDAR
VERSION:2.0
PRODID:-//OmniMagnetCalendar//EN
BEGIN:VEVENT
DTSTAMP:20190625T195740Z
STATUS:CONFIRMED
UID:hccincinnati.clubs.harvard.edu208
DTSTART:20170111T223000Z
DTEND:20170112T003000Z
LOCATION:The Bar at The Palm Court, 35 West Fifth Street, Cincinnati, OH, 45202, USA,
SUMMARY:Global Networking Night--January 11.
DESCRIPTION:Free and open to all Harvard University graduates, current students and University affiliates.
BEGIN:VALARM
TRIGGER:-PT15M
ACTION:DISPLAY
END:VALARM
TRANSP:OPAQUE
END:VEVENT
END:VCALENDAR
